BEGIN:VCALENDAR
VERSION:2.0
PRODID:-//39th Chaos Communications Congress//events in somewhere in the h
 ouse of tea
CALSCALE:GREGORIAN
METHOD:PUBLISH
X-WR-CALNAME:events in somewhere in the house of tea
BEGIN:VEVENT
SUMMARY:cozy crafting session
DTSTART:20251228T100000Z
DTEND:20251228T120000Z
DTSTAMP:20260424T235130Z
UID:2960fd4d-a610-4951-82ef-beb49fa5ee58
CATEGORIES:
DESCRIPTION:we sit together with a cup of tea and chat while crafting \na 
 cozy start for day 2
LOCATION:somewhere in the house of tea
URL:https://events.ccc.de/congress/2025/hub/event/detail/cozy-crafting-ses
 sion
END:VEVENT
BEGIN:VEVENT
SUMMARY:Dissoziative Ressourcen Teilen: Eine DIS-kussion
DTSTART:20251230T100000Z
DTEND:20251230T120000Z
DTSTAMP:20260424T235130Z
UID:5e7b2cbd-e00e-40ca-a9cf-a37f25addea4
CATEGORIES:
DESCRIPTION:this meet-up is in German\, please be advised.\n\nThis is a me
 et-up for dissociative\, plural Systems* (or creatures who are questioning
  themself). The meetup exists mainly as an exchange of experiences\, and f
 or mutual support.\n\nPlease only attend if you are well rested\, have eat
 en something and are hydrated and other basic needs of your body are met!\
 n\nThe meet-up will be moderated\, there will be speaking-rules and suppor
 t available.\n\n**System\, DID\, Plurality\, etc. are equally welcome\, no
  one will be pathologiesed or forced to use different language.*
LOCATION:somewhere in the house of tea
URL:https://events.ccc.de/congress/2025/hub/event/detail/dissoziative-ress
 ourcen-teilen-eine-dis-kussion
END:VEVENT
BEGIN:VEVENT
SUMMARY:Cultural resistance: creating space for Palestine activism in our 
 communities
DTSTART:20251230T130000Z
DTEND:20251230T140000Z
DTSTAMP:20260424T235130Z
UID:d5e15022-c25e-4d5f-bc9a-0a0b9f54a980
CATEGORIES:
DESCRIPTION:Come and join us for a sharing session - we will tell you abou
 t our experience of organising cultural resistance in support of Palestine
  in Leipzig\, and we are eager to hear from you.\n\nWe are members of Arti
 sts for Cultural Freedom Leipzig. We formed after the Euro-Scene festival 
 succumbed to pressure from Leipzig Stadt and the Sächsisches Staatsminist
 erium für Wissenschaft\, Kultur und Tourismus to cancel a theater perform
 ance by Palestinian artist Ahmed Tobasi in 2024. Our community organised t
 o bring the performance to Leipzig and stage it independently in 2025.\n\n
 https://www.tagesschau.de/inland/regional/sachsen/mdr-umstrittene-palaesti
 nensische-theater-performance-kommt-in-leipzig-auf-die-buehne-100.html\n\n
 Bring your experiences to share! We will talk about how we organise\, how 
 we keep the scope of our activities manageable\, and how small wins keep u
 s going\, then hand over to you. Tell us about your community\, your event
 s\, your achievements and your plans for fighting censorship and exclusion
 .\n\nDepending how many people come\, we may split into smaller groups for
  ease of communication.
LOCATION:somewhere in the house of tea
URL:https://events.ccc.de/congress/2025/hub/event/detail/cultural-resistan
 ce-creating-space-for-palest_1ne3
END:VEVENT
END:VCALENDAR
