BEGIN:VCALENDAR
VERSION:2.0
PRODID:-//39th Chaos Communications Congress//events in Shared Table 9
CALSCALE:GREGORIAN
METHOD:PUBLISH
X-WR-CALNAME:events in Shared Table 9
BEGIN:VEVENT
SUMMARY:1D-CON: 1D-Game-Developers Conference
DTSTART:20251230T110000Z
DTEND:20251230T112500Z
DTSTAMP:20260421T003311Z
UID:88b4280a-928c-4ef6-9f43-f7d0e64a8d49
CATEGORIES:official
DESCRIPTION:We who are interested in the future of 1D-Gaming know\, that P
 ong is only the tip of the iceberg regarding the 1D-gaming industry. At 39
 c3 this year will be the largest gathering in the history of 1D-Game-Devel
 opment. Single Dimension Studios will present their new sports title CURLI
 NG. Team1\, the developers of retro classic WORM will present their new ro
 guelike DARKEST ROAD. Highlight will be the presentation of the first 1D-G
 aming-Console in the history of gaming: The Linear Entertainment System (L
 ES). The rest of the program will include talks and teasers for RPG titles
  like BENEATH APPLE TOWER and DWARF SHAFT\, sports titles like LINE DANCER
  2025\, TONY FAWK'S SLACK LINER PRO and many many more. Seats are limited 
 due to press interest\, arriving early suggested.
LOCATION:Shared Table 9
URL:https://events.ccc.de/congress/2025/hub/event/detail/1d-con-1d-game-de
 velopers-conference_9i76
END:VEVENT
END:VCALENDAR
