BEGIN:VCALENDAR
VERSION:2.0
PRODID:-//39th Chaos Communications Congress//events in Shared Table 4
CALSCALE:GREGORIAN
METHOD:PUBLISH
X-WR-CALNAME:events in Shared Table 4
BEGIN:VEVENT
SUMMARY:Raphson music player (Demo)
DTSTART:20251230T120000Z
DTEND:20251230T122500Z
DTSTAMP:20260421T021427Z
UID:3722e377-355d-4e35-8255-4a1b43b91532
CATEGORIES:official
DESCRIPTION:Web-based self-hosted social music player for parties or socia
 l spaces.\n\nWhat makes this different from other music players? It is des
 igned around listening with groups. Instead of playing a single playlist\,
  this music player allows enabling many playlists from different people. T
 racks are shuffled from multiple playlists into a single queue. No more ar
 guing about which music to play\, everyone's music get played.\n\nAn addit
 ional benefit of this is music discovery\; even when you're listening solo
  you might like to mix up your own music with someone else's.
LOCATION:Shared Table 4
URL:https://events.ccc.de/congress/2025/hub/event/detail/raphson-music-pla
 yer-demo
END:VEVENT
END:VCALENDAR
