BEGIN:VCALENDAR
VERSION:2.0
PRODID:-//39th Chaos Communications Congress//events in Shared Table 13
CALSCALE:GREGORIAN
METHOD:PUBLISH
X-WR-CALNAME:events in Shared Table 13
BEGIN:VEVENT
SUMMARY:Streckenkunde & Open-Data für Eisenbahn (SOP)
DTSTART:20251230T090000Z
DTEND:20251230T100000Z
DTSTAMP:20260421T003311Z
UID:6f3c9293-c346-50ff-ab16-149babcec858
CATEGORIES:official
DESCRIPTION: by cloudmarker97  (DECT 6112) 
LOCATION:Shared Table 13
URL:https://events.ccc.de/congress/2025/hub/event/detail/streckenkunde-ope
 n-data-fur-eisenbahn-sop
END:VEVENT
BEGIN:VEVENT
SUMMARY:Beyond Keycloak - OpenSource for identity governance at large orga
 nizations
DTSTART:20251230T130000Z
DTEND:20251230T135000Z
DTSTAMP:20260421T003311Z
UID:1d995abc-14f8-45df-b059-048a200c2fb5
CATEGORIES:official
DESCRIPTION:A small talk / success story (and discussion) about stepping u
 p from SSO to effective IGA.\n\nI would like to share what my organization
  went through to have effective identity governance ahead of NIS-2 and the
  role of open source in this endavour.\nWould also love to discuss your cu
 rrent experiences or journeys in the IAM space!\n\nDependig on our guests\
 , this talk may be held in German or English.\n\n// Location Hint: Shared 
 Table 13 is at the left side of the foyer in front of hall 3. \n// The sha
 red tables have little stands with yellow rockets and the table number at 
 the center.
LOCATION:Shared Table 13
URL:https://events.ccc.de/congress/2025/hub/event/detail/beyond-keycloak-o
 pensource-for-identity-governance
END:VEVENT
END:VCALENDAR
