BEGIN:VCALENDAR
VERSION:2.0
PRODID:-//39th Chaos Communications Congress//events in Shared Table 11
CALSCALE:GREGORIAN
METHOD:PUBLISH
X-WR-CALNAME:events in Shared Table 11
BEGIN:VEVENT
SUMMARY:Bicycle enthusiasts and courier meetup
DTSTART:20251230T093000Z
DTEND:20251230T095500Z
DTSTAMP:20260421T003311Z
UID:b7bc89f8-680f-42cc-90b5-fd17a610e287
CATEGORIES:official
DESCRIPTION:THE Bicycle Messenger and bicycle enthusiast meetup at 39c3. L
 et's get to know each other and talk about bikes and #messlife.
LOCATION:Shared Table 11
URL:https://events.ccc.de/congress/2025/hub/event/detail/bicycle-enthusias
 ts-and-courier-meetup_pli4
END:VEVENT
END:VCALENDAR
