BEGIN:VCALENDAR
VERSION:2.0
PRODID:-//39th Chaos Communications Congress//events in ShapeIt
CALSCALE:GREGORIAN
METHOD:PUBLISH
X-WR-CALNAME:events in ShapeIt
BEGIN:VEVENT
SUMMARY:ShapeIt — Open Source 3D Modeller
DTSTART:20251229T140000Z
DTEND:20251229T143000Z
DTSTAMP:20260421T003311Z
UID:fd536a59-3346-4984-8b46-5f7f1f10f7b1
CATEGORIES:
DESCRIPTION:Let me introduce you to ShapeIt — an open-source CAD applica
 tion developed by me\, Gerhard.\n\nAre you interested in getting involved?
  Feel free to join us!\n\nWhether you simply want to try out ShapeIt or ac
 tively contribute to its development\, you are very welcome.\n\nCurrent ar
 eas of work include platform independence\, user experience testing\, the 
 plugin interface\, STL reverse engineering\, and SVG import.\n\nhttps://gi
 thub.com/FriendsOfCADability/CADability\n\nNote: This workshop is held by 
 Gerhard\, who has no Hub-account. Not by langfingaz \;)
LOCATION:ShapeIt
URL:https://events.ccc.de/congress/2025/hub/event/detail/shapeit-open-sour
 ce-3d-modeller
END:VEVENT
BEGIN:VEVENT
SUMMARY:ShapeIt — Open Source 3D Modeller
DTSTART:20251230T100000Z
DTEND:20251230T103000Z
DTSTAMP:20260421T003311Z
UID:b32addb2-ed54-4d91-8365-83551402c109
CATEGORIES:
DESCRIPTION:Let me introduce you to ShapeIt — an open-source CAD applica
 tion developed by me\, Gerhard.\n\nAre you interested in getting involved?
  Feel free to join us!\n\nWhether you simply want to try out ShapeIt or ac
 tively contribute to its development\, you are very welcome.\n\nCurrent ar
 eas of work include platform independence\, user experience testing\, the 
 plugin interface\, STL reverse engineering\, and SVG import.\n\nhttps://gi
 thub.com/FriendsOfCADability/CADability\n\nNote: This workshop is held by 
 Gerhard\, who has no Hub-account. Not by langfingaz \;)
LOCATION:ShapeIt
URL:https://events.ccc.de/congress/2025/hub/event/detail/shapeit-open-sour
 ce-3d-modeller_t00i
END:VEVENT
END:VCALENDAR
