BEGIN:VCALENDAR
VERSION:2.0
PRODID:-//39th Chaos Communications Congress//events in Kidspace - Tisch v
 or Saal B
CALSCALE:GREGORIAN
METHOD:PUBLISH
X-WR-CALNAME:events in Kidspace - Tisch vor Saal B
BEGIN:VEVENT
SUMMARY:Geschichten Erzählen Tag 1 - Waldwesen (Grusel und Geheimnis)
DTSTART:20251227T130000Z
DTEND:20251227T150000Z
DTSTAMP:20260421T003622Z
UID:368c9eba-4bdb-4ed6-9d14-a0fd0fefea0a
CATEGORIES:
DESCRIPTION:Es ist Winter. Der erste Schnee ist gefallen. Und da steht ein
  Monster vor der Tür und es bringt Geschenke. (Rollenspiel ohne Regelsyst
 em\, 2 Stunden\, bis zu 6 Leute\, auf Deutsch)
LOCATION:Kidspace - Tisch vor Saal B
URL:https://events.ccc.de/congress/2025/hub/event/detail/geschichten-erzah
 len-tag-1-waldwesen-grusel-und-ge
END:VEVENT
BEGIN:VEVENT
SUMMARY:Papierbasteln Tag 1
DTSTART:20251227T150000Z
DTEND:20251227T160000Z
DTSTAMP:20260421T003622Z
UID:c24061ba-f05f-472f-a0f0-76d3ec786772
CATEGORIES:
DESCRIPTION:Eine kleine Hütte im Schnee (1 Stunde\, Material und Werkzeug
  sind vorhanden)
LOCATION:Kidspace - Tisch vor Saal B
URL:https://events.ccc.de/congress/2025/hub/event/detail/papierbasteln-tag
 -1
END:VEVENT
BEGIN:VEVENT
SUMMARY:Geschichten Erzählen Tag 2 - Zauberschule: Ethikexkursion
DTSTART:20251228T130000Z
DTEND:20251228T150000Z
DTSTAMP:20260421T003622Z
UID:951ae242-6bf3-4b20-9336-7727499b8e7b
CATEGORIES:
DESCRIPTION:Ihr braucht noch eine Prüfung in Ethik\, und deshalb müsst i
 hr komplizierte Problemen mit gefährlichen Wesen lösen\, und dabei alles
  richtig machen. (Rollenspiel ohne Regelsystem\, 2 Stunden\, bis zu 6 Leut
 e\, auf Deutsch)
LOCATION:Kidspace - Tisch vor Saal B
URL:https://events.ccc.de/congress/2025/hub/event/detail/geschichten-erzah
 len-tag-2-zauberschule-ethikexkur
END:VEVENT
BEGIN:VEVENT
SUMMARY:Papierbasteln Tag 2
DTSTART:20251228T150000Z
DTEND:20251228T160000Z
DTSTAMP:20260421T003622Z
UID:f7f0514f-cc22-4cf5-9499-c87bf82ad13d
CATEGORIES:
DESCRIPTION:Ein kleiner Berg (1 Stunde\, Material und Werkzeug sind vorhan
 den)
LOCATION:Kidspace - Tisch vor Saal B
URL:https://events.ccc.de/congress/2025/hub/event/detail/papierbasteln-tag
 -2
END:VEVENT
BEGIN:VEVENT
SUMMARY:Geschichten Erzählen Tag 3 - Zauberschule: Schatzjagd
DTSTART:20251229T130000Z
DTEND:20251229T150000Z
DTSTAMP:20260421T003622Z
UID:b40ead03-dde8-4243-a275-0ad10d59d56e
CATEGORIES:
DESCRIPTION:Ihr braucht noch eine Projektarbeit in Geschichte der Magie\, 
 und deshalb buddelt ihr alte Ruinen aus. (Rollenspiel ohne Regelsystem\, 2
  Stunden\, bis zu 6 Leute\, auf Deutsch)
LOCATION:Kidspace - Tisch vor Saal B
URL:https://events.ccc.de/congress/2025/hub/event/detail/geschichten-erzah
 len-tag-3-zauberschule-schatzjagd
END:VEVENT
BEGIN:VEVENT
SUMMARY:Papierbasteln Tag 3
DTSTART:20251229T150000Z
DTEND:20251229T160000Z
DTSTAMP:20260421T003622Z
UID:c6459ba2-d5dc-46e7-8f7d-ed9cd40ac62e
CATEGORIES:
DESCRIPTION:Eine kleine Tropeninsel (1 Stunde\, Material und Werkzeug sind
  vorhanden)
LOCATION:Kidspace - Tisch vor Saal B
URL:https://events.ccc.de/congress/2025/hub/event/detail/papierbasteln-tag
 -3
END:VEVENT
BEGIN:VEVENT
SUMMARY:Geschichten Erzählen Tag 4 - Im Orbit (Science Fiction)
DTSTART:20251230T130000Z
DTEND:20251230T150000Z
DTSTAMP:20260421T003622Z
UID:92472611-baf1-49a5-93ca-8769cf3d8e8f
CATEGORIES:
DESCRIPTION:Unser Raumschiff ist kaputt und jetzt bauen wir uns ein Neues.
  (Rollenspiel ohne Regelsystem\, 2 Stunden\, bis zu 6 Leute\, auf Deutsch)
LOCATION:Kidspace - Tisch vor Saal B
URL:https://events.ccc.de/congress/2025/hub/event/detail/geschichten-erzah
 len-tag-4-im-orbit-science-fictio
END:VEVENT
END:VCALENDAR
