BEGIN:VCALENDAR
VERSION:2.0
PRODID:-//39th Chaos Communications Congress//events in [hsmr]
CALSCALE:GREGORIAN
METHOD:PUBLISH
X-WR-CALNAME:events in [hsmr]
BEGIN:VEVENT
SUMMARY:Signal\, Matrix & Threema Contact Verification Meeting
DTSTART:20251229T111500Z
DTEND:20251229T112500Z
DTSTAMP:20260421T021453Z
UID:83910a70-d72a-4a4c-9a89-78a3b543f501
CATEGORIES:
DESCRIPTION:Welcome to our modern ‘key signing’ session: We invite you
  to exchange contacts via Signal\, Matrix and Threema and to verify each o
 ther's chat sessions. This ensures that no ‘person in the middle’ is r
 eading along.\n\nWe at [hsmr] and MaZe are using the opportunity that many
  of us are present at the same time to verify each other. However\, all ot
 her creatures are also welcome to join. We are happy to help if this is yo
 ur first time hearing about contact verification.
LOCATION:[hsmr]
URL:https://events.ccc.de/congress/2025/hub/event/detail/signal-matrix-con
 tact-verification-meeting
END:VEVENT
BEGIN:VEVENT
SUMMARY:re:luks — Unattended Power Cycles for your FDE Servers
DTSTART:20251229T130000Z
DTEND:20251229T132500Z
DTSTAMP:20260421T021453Z
UID:7a5f3e9f-8dd9-4c4d-a7b4-06a9bd701ec8
CATEGORIES:
DESCRIPTION:One of the annoyances of full disk encryption (FDE) is that a 
 reboot (which might be necessary after system updates) requires the disk p
 assphrase to be entered. re:luks solves this problem by using a second FDE
  server for mutal reboots. The solution follows the KISS principle and con
 sists of a short Python script.\n\nIf you want to keep your server up-to-d
 ate and don't want to sacrifice disk encryption or convenience\, then this
  short project presentation might be for you! Let's increase the power cyc
 le count of our FDE servers by automating the reboot process!\n\nSlides: h
 ttps://md.privacy1st.de/p/pty3inm4z0#/
LOCATION:[hsmr]
URL:https://events.ccc.de/congress/2025/hub/event/detail/reluks-unattended
 -power-cycles-for-your-fde-server
END:VEVENT
END:VCALENDAR
