BEGIN:VCALENDAR
VERSION:2.0
PRODID:-//39th Chaos Communications Congress//events in DigiGes shared tab
 le
CALSCALE:GREGORIAN
METHOD:PUBLISH
X-WR-CALNAME:events in DigiGes shared table
BEGIN:VEVENT
SUMMARY:Wir bauen einen Digital-O-Mat für die Berliner Wahl 2026
DTSTART:20251228T130000Z
DTEND:20251228T134500Z
DTSTAMP:20260424T022201Z
UID:24f073aa-ae23-4c13-bd7b-81eeec85a66a
CATEGORIES:
DESCRIPTION:
LOCATION:DigiGes shared table
URL:https://events.ccc.de/congress/2025/hub/event/detail/digital-o-mat-kic
 k-off
END:VEVENT
BEGIN:VEVENT
SUMMARY:Nicht schon wieder Vorratsdatenspeicherung!
DTSTART:20251228T180000Z
DTEND:20251228T190000Z
DTSTAMP:20260424T022201Z
UID:fb532d6e-6a02-4069-8d2c-48bf7e02c14b
CATEGORIES:
DESCRIPTION:German meet-up on fighting back against the new proposal for d
 ata retention in Germany.
LOCATION:DigiGes shared table
URL:https://events.ccc.de/congress/2025/hub/event/detail/nicht-schon-wiede
 r-vorratsdatenspeicherung
END:VEVENT
END:VCALENDAR
