BEGIN:VCALENDAR
VERSION:2.0
PRODID:-//39th Chaos Communications Congress//events in CADUS WASH-Station
CALSCALE:GREGORIAN
METHOD:PUBLISH
X-WR-CALNAME:events in CADUS WASH-Station
BEGIN:VEVENT
SUMMARY:WASH-Sprechstunde
DTSTART:20251227T140000Z
DTEND:20251227T143000Z
DTSTAMP:20260425T041559Z
UID:e6e3d80b-27be-45cf-94db-e9edfcdbb2f0
CATEGORIES:
DESCRIPTION:CADUS WASH-Station – Water\, Sanitation and Hygiene\n\nEin k
 ompakter Einblick in Wasseraufbereitung im Einsatz: Mit Wasserfiltersystem
 \, kleinem Wasserlabor und kurzen WASH Sprechstunden.\n\nZum Anschauen\, A
 nfassen und Fragenstellen.\n\nKommt zu unseren regelmäßigen WASH-Sprechs
 tunden vorbei\, stellt eure Fragen\, und bekommt einen praktischen Einblic
 k in einfache Wasseraufbereitungs- und Hygienelösungen im Einsatz.
LOCATION:CADUS WASH-Station
URL:https://events.ccc.de/congress/2025/hub/event/detail/wash-sprechstunde
END:VEVENT
BEGIN:VEVENT
SUMMARY:WASH-Sprechstunde
DTSTART:20251228T110000Z
DTEND:20251228T114500Z
DTSTAMP:20260425T041559Z
UID:5bfe02db-9bec-4431-8efe-350751c3b64c
CATEGORIES:
DESCRIPTION:CADUS WASH Station – Water\, Sanitation\, and Hygiene\n\nA c
 ompact insight into water treatment in action: with a water filter system\
 , small water laboratory\, and short WASH consultation hours.\n\nTo look a
 t\, touch\, and ask questions.\n\nCome to our regular WASH consultation ho
 urs\, ask your questions\, and get a practical insight into simple water t
 reatment and hygiene solutions in use.
LOCATION:CADUS WASH-Station
URL:https://events.ccc.de/congress/2025/hub/event/detail/wash-sprechstunde
 _uewf
END:VEVENT
BEGIN:VEVENT
SUMMARY:WASH-Sprechstunde
DTSTART:20251229T130000Z
DTEND:20251229T134500Z
DTSTAMP:20260425T041559Z
UID:954f8158-338b-450a-9e46-af15976fffc4
CATEGORIES:
DESCRIPTION:CADUS WASH Station – Water\, Sanitation\, and Hygiene\n\nA c
 ompact insight into water treatment in action: with a water filter system\
 , small water laboratory\, and short WASH consultation hours.\n\nTo look a
 t\, touch\, and ask questions.\n\nCome to our regular WASH consultation ho
 urs\, ask your questions\, and get a practical insight into simple water t
 reatment and hygiene solutions in use.
LOCATION:CADUS WASH-Station
URL:https://events.ccc.de/congress/2025/hub/event/detail/wash-sprechstunde
 _aflz
END:VEVENT
END:VCALENDAR
