BEGIN:VCALENDAR
VERSION:2.0
PRODID:-//39th Chaos Communications Congress//events in CADUS Skill-Statio
 n
CALSCALE:GREGORIAN
METHOD:PUBLISH
X-WR-CALNAME:events in CADUS Skill-Station
BEGIN:VEVENT
SUMMARY:Daily Tech Talk: CADUS Academy – Building an Open Learning Platf
 orm
DTSTART:20251227T120000Z
DTEND:20251227T123000Z
DTSTAMP:20260424T234554Z
UID:f988d2dc-08e7-43d6-8c10-e12dfa8aced1
CATEGORIES:
DESCRIPTION:Each day\, we’ll give a short insight into the development o
 f the CADUS Academy: our open learning platform for medical\, technical\, 
 and psychosocial training.\nWe’ll share where the project currently stan
 ds\, the ideas shaping it\, and how the community can get involved.\nQuest
 ions\, feedback\, and spontaneous discussions are warmly welcome.
LOCATION:CADUS Skill-Station
URL:https://events.ccc.de/congress/2025/hub/event/detail/daily-tech-talk-c
 adus-academy-building-an-open-lea
END:VEVENT
BEGIN:VEVENT
SUMMARY:Fight\, Flight\, Freeze - und dann? Handlungsfähig bleiben mit Ps
 ychologischer Erster Hilfe. Ein Crashkurs
DTSTART:20251227T130000Z
DTEND:20251227T133000Z
DTSTAMP:20260424T234554Z
UID:ead31961-97da-4be4-a436-e2e9aab5a98d
CATEGORIES:
DESCRIPTION:If the shit hits the fan\, medical first aid can often prevent
  the situation to get worse. Psychological first aid (PFA) can too. Unfort
 unately\, PFA is not (yet) taught in schools or as an obligatory part of d
 river's license. With this crash course\, we want to pass on evidence-base
 d knowledge about the basics of psychological first aid\, as we apply it i
 n our work at CADUS. This is not about therapy\, but about initial\, relat
 ively simple\, almost technical measures to help our brain\, our body\, ou
 r psyche process what we have experienced - for self-protection and to hel
 p others.
LOCATION:CADUS Skill-Station
URL:https://events.ccc.de/congress/2025/hub/event/detail/fight-flight-free
 ze-und-dann-handlungsfahig-bleibe
END:VEVENT
BEGIN:VEVENT
SUMMARY:Schwere Weste\, dichte Maske – Wie sich Schutzkleidung anfühlt
DTSTART:20251227T150000Z
DTEND:20251227T153000Z
DTSTAMP:20260424T234554Z
UID:8d71dbaa-7e3f-4b3a-9d4f-934a4f51e9f2
CATEGORIES:
DESCRIPTION:What does operational gear actually feel like? With us\, you c
 an try it on and find out: plate carrier\, helmet\, ballistic goggles\, IF
 AK — and in the second part\, a full CBRN protective suit with mask. We
 ’ll give a short introduction to why we use this equipment in humanitari
 an missions and what it can realistically do.  \n\nYou’ll be able to try
  everything on yourself\, ask questions\, and get a real sense of what thi
 s gear protects you from — and what it doesn’t — as well as how exha
 usting it is to put on and move around in. Photos are absolutely fine\, wh
 ether it’s for your grandma’s Christmas card or just for fun.  \n\nPle
 ase note: This workshop includes discussion of war\, injury\, and death.
LOCATION:CADUS Skill-Station
URL:https://events.ccc.de/congress/2025/hub/event/detail/schwere-weste-dic
 hte-maske-wie-sich-schutzkleidung
END:VEVENT
BEGIN:VEVENT
SUMMARY:Einsatzgepäck & Alltagskram – ein gemeinsamer Taschencheck
DTSTART:20251227T180000Z
DTEND:20251227T183000Z
DTSTAMP:20260424T234554Z
UID:b1259bd6-cb67-4318-ab74-d523047ae63a
CATEGORIES:
DESCRIPTION:Our grab bag is the pack we can grab in seconds during a missi
 on – filled with the things that carry us through tough moments. And you
  have your hipbags\, packed with clever bits\, multitools\, and items that
  become gold in exactly the right minute. We’ll show you what we bring a
 nd why – and we’re curious what you carry in your everyday life. What 
 makes you ready for chaos? What’s your favourite tool?
LOCATION:CADUS Skill-Station
URL:https://events.ccc.de/congress/2025/hub/event/detail/einsatzgepack-all
 tagskram-ein-gemeinsamer-taschenc
END:VEVENT
BEGIN:VEVENT
SUMMARY:Nasenmusik für fortgeschrittene Schnüffler*innen
DTSTART:20251227T190000Z
DTEND:20251227T200000Z
DTSTAMP:20260424T234554Z
UID:ae6b5c61-ff87-4164-bd3a-da8d8bcfdc79
CATEGORIES:
DESCRIPTION:Welcome to what is probably the world's only orchestra where t
 he most important sound-producing instrument is... your nose! Each partici
 pant receives a fresh nose flute and easy-to-understand instructions on ho
 w to correctly position\, breathe\, and blow this wondrous instrument.  Th
 en it's time to learn by sniffing! Everyone practices at their own pace ho
 w to conjure up individual notes cleanly from their nose—from a delicate
  peep to a confident TOOT.  Once everyone has got the hang of it (and the 
 first tears of laughter have dried)\, we venture into simple sequences of 
 notes that already sound suspiciously like music. And if that works well\,
  it gets really epic: We transform ourselves into a nose flute a cappella 
 orchestra\, where everyone can suggest melodies – from children's songs 
 to epic film themes. Together\, we make the air vibrate!  In short: A work
 shop full of fun\, tooting noises\, unexpected talents – and real music 
 from the nose.
LOCATION:CADUS Skill-Station
URL:https://events.ccc.de/congress/2025/hub/event/detail/nasenmusik-fur-fo
 rtgeschrittene-schnufflerinnen
END:VEVENT
BEGIN:VEVENT
SUMMARY:From Rave to Rubble - De-Elitise Crisis Response
DTSTART:20251227T200000Z
DTEND:20251227T210000Z
DTSTAMP:20260424T234554Z
UID:f8c65205-19e4-4b7c-ad41-8ae1d62fdb44
CATEGORIES:
DESCRIPTION:CADUS is currently active in war zones such as Ukraine\, Gaza\
 , and Sudan—but it all started backstage at a music festival.\nThe idea:
  to rethink humanitarian aid\, beyond uniforms\, hierarchy\, and postcolon
 ial “white charity” logic. Instead\, sharing skills\, hacking tools\, 
 and making knowledge openly accessible—disaster relief as a commons. In 
 this talk\, we'll share how a DIY project from the subculture has evolved 
 into an organization that now builds medical infrastructure\, tech solutio
 ns\, and training in crisis areas—with bright minds from different disci
 plines\, open-source hardware\, and a lot of improvisation.\nWe talk about
  what it means to de-elitize humanitarian work: How can we act in conflict
 s\, climate disasters\, or collapses without slipping into old power logic
 s? How can practical solidarity be scaled without becoming an NGO apparatu
 s? And what can nerds\, makers\, and activists contribute in concrete term
 s when the world is burning? A reality check with hopefully contagious ene
 rgy for action—from the idea to the reality of deployment. No hero stori
 es\, but many lessons learned and open construction sites.\nEspecially wit
 h regard to Gaza\, Ukraine\, Sudan\, and the climate crisis\, we want to s
 how that the ability to act is not a question of profession\, uniform\, or
  mandate—but of collective creativity\, technical openness\, and solidar
 ity-based courage.
LOCATION:CADUS Skill-Station
URL:https://events.ccc.de/congress/2025/hub/event/detail/from-rave-to-rubb
 le-de-elitise-crisis-respons_q0xd
END:VEVENT
BEGIN:VEVENT
SUMMARY:Mini-Wasser-Labor for Kids!
DTSTART:20251228T090000Z
DTEND:20251228T100000Z
DTSTAMP:20260424T234554Z
UID:be0fb820-2f4a-432a-9e3b-4c4d87cd8db5
CATEGORIES:
DESCRIPTION:In this workshop\, you’ll become a real water-filter expert!
 \nTogether\, we’ll build simple water filters\, test different materials
 \, and see how dirty water can turn clear again.\n\nOf course\, you’ll g
 et to mix\, experiment\, and discover for yourself what works best.
LOCATION:CADUS Skill-Station
URL:https://events.ccc.de/congress/2025/hub/event/detail/mini-wasser-labor
 -for-kids
END:VEVENT
BEGIN:VEVENT
SUMMARY:Hack the Training! Call for Ideas für DIY-Lösungen in Einsatzsim
 ulationen
DTSTART:20251228T110000Z
DTEND:20251228T120000Z
DTSTAMP:20260424T234554Z
UID:b639486c-696c-47a5-82c5-46cbe1691501
CATEGORIES:
DESCRIPTION:Our CADUS trainings are based on the motto “Train as you fig
 ht\,” which means we try to make our operational simulations as realisti
 c as possible. To achieve this\, we have to simulate the “dangerous aspe
 cts” of disasters such as fire\, explosions\, toxic substances\, highly 
 infectious germs\, radiation\, dangerous injuries\, etc.  Training equipme
 nt such as fire simulators\, mannequins that can be used to train ultrasou
 nd examinations \, radiation sources\, and detectors are available on the 
 market at exorbitant prices\, making it impossible to scale high-quality\,
  realistic training. In this open workshop format\, we first want to show 
 you how we've already approached this problem productively here and there.
 .. and then brainstorm together about where the journey could take us. Fro
 m F/X to a bit of creative electronics\, innovative event technology\, to 
 3D printing and digital simulations. We are looking for elegant programmin
 g and realistic DIY constructions! So if you feel like brainstorming creat
 ive workarounds and maybe even implementing them with and for CADUS after 
 the congress\, come on by!
LOCATION:CADUS Skill-Station
URL:https://events.ccc.de/congress/2025/hub/event/detail/hack-the-training
 -call-for-ideas-fur-diy-losungen-
END:VEVENT
BEGIN:VEVENT
SUMMARY:Daily Tech Talk: CADUS Academy – Building an Open Learning Platf
 orm
DTSTART:20251228T120000Z
DTEND:20251228T123000Z
DTSTAMP:20260424T234554Z
UID:3e74ebb7-3d58-48df-a475-695fdaaed4d4
CATEGORIES:
DESCRIPTION:Each day\, we’ll give a short insight into the development o
 f the CADUS Academy: our open learning platform for medical\, technical\, 
 and psychosocial training.\nWe’ll share where the project currently stan
 ds\, the ideas shaping it\, and how the community can get involved.\nQuest
 ions\, feedback\, and spontaneous discussions are warmly welcome.
LOCATION:CADUS Skill-Station
URL:https://events.ccc.de/congress/2025/hub/event/detail/daily-tech-talk-c
 adus-academy-building-an-ope_vstd
END:VEVENT
BEGIN:VEVENT
SUMMARY:Nasenmusik für fortgeschrittene Schnüffler*innen
DTSTART:20251228T130000Z
DTEND:20251228T140000Z
DTSTAMP:20260424T234554Z
UID:1e02fcf7-7bbd-4851-a28c-4d29ad67ee31
CATEGORIES:
DESCRIPTION:Welcome to what is probably the world's only orchestra where t
 he most important sound-producing instrument is... your nose! Each partici
 pant receives a fresh nose flute and easy-to-understand instructions on ho
 w to correctly position\, breathe\, and blow this wondrous instrument.  Th
 en it's time to learn by sniffing! Everyone practices at their own pace ho
 w to conjure up individual notes cleanly from their nose—from a delicate
  peep to a confident TOOT.  Once everyone has got the hang of it (and the 
 first tears of laughter have dried)\, we venture into simple sequences of 
 notes that already sound suspiciously like music. And if that works well\,
  it gets really epic: We transform ourselves into a nose flute a cappella 
 orchestra\, where everyone can suggest melodies – from children's songs 
 to epic film themes. Together\, we make the air vibrate!  In short: A work
 shop full of fun\, tooting noises\, unexpected talents – and real music 
 from the nose.
LOCATION:CADUS Skill-Station
URL:https://events.ccc.de/congress/2025/hub/event/detail/nasenmusik-fur-fo
 rtgeschrittene-schnufflerinn_jdpe
END:VEVENT
BEGIN:VEVENT
SUMMARY:GIS in Crisis Areas: Cards\, Chaos & Cadus
DTSTART:20251228T180000Z
DTEND:20251228T190000Z
DTSTAMP:20260424T234554Z
UID:cd37c57c-2dd1-43d5-a455-8e554ec3f905
CATEGORIES:
DESCRIPTION:GIS at CADUS: How we work with sensitive map data in crisis zo
 nes\, which tools (OSMAND\, Maps.me\, OSM\, Google) actually work\, where 
 they fail\, and how we’re building our own offline-first GIS. Looking fo
 rward to your experiences and ideas!
LOCATION:CADUS Skill-Station
URL:https://events.ccc.de/congress/2025/hub/event/detail/gis-im-krisengebi
 et-karten-chaos-cadus
END:VEVENT
BEGIN:VEVENT
SUMMARY:Der Talk: Solidarisch Preppen
DTSTART:20251228T190000Z
DTEND:20251228T200000Z
DTSTAMP:20260424T234554Z
UID:0331af51-5e0c-4085-8f68-78e4cd37ad41
CATEGORIES:
DESCRIPTION:We want to engage in a joint discussion with you about what fa
 r-right crisis narratives are and why they can never be based on solidarit
 y.
LOCATION:CADUS Skill-Station
URL:https://events.ccc.de/congress/2025/hub/event/detail/der-talk-solidari
 sch-preppen_vonm
END:VEVENT
BEGIN:VEVENT
SUMMARY:Prepping-Supply richtig kaufen
DTSTART:20251229T110000Z
DTEND:20251229T120000Z
DTSTAMP:20260424T234554Z
UID:202e15cf-1770-4c61-903a-5fb417caba59
CATEGORIES:
DESCRIPTION:It is repeatedly becoming public knowledge that the extreme ri
 ght is also interested in the topic of prepping. However\, this is not abo
 ut a crisis preparedness based on solidarity\, but about isolating and pro
 tecting their own ethnic families or the German "Volk". Far-right online. 
 shops selling prepping supplies try to disguise themselves as harmless sur
 vival shops. We want to discuss how to recognize such shops and what exact
 ly far-right crisis narratives are in an accompanied reading corner. You c
 an take a look at the far-right crisis world through primary sources and a
 sk questions or exchange ideas and experiences.
LOCATION:CADUS Skill-Station
URL:https://events.ccc.de/congress/2025/hub/event/detail/prepping-supply-r
 ichtig-kaufen
END:VEVENT
BEGIN:VEVENT
SUMMARY:Daily Tech Talk: CADUS Academy – Building an Open Learning Platf
 orm (in deutscher Sprache)
DTSTART:20251229T120000Z
DTEND:20251229T123000Z
DTSTAMP:20260424T234554Z
UID:6862fa17-1195-4305-bc12-88228ca83247
CATEGORIES:
DESCRIPTION:Each day\, we’ll give a short insight into the development o
 f the CADUS Academy: our open learning platform for medical\, technical\, 
 and psychosocial training.\nWe’ll share where the project currently stan
 ds\, the ideas shaping it\, and how the community can get involved.\nQuest
 ions\, feedback\, and spontaneous discussions are warmly welcome.
LOCATION:CADUS Skill-Station
URL:https://events.ccc.de/congress/2025/hub/event/detail/daily-tech-talk-c
 adus-academy-building-an-ope_c2ns
END:VEVENT
BEGIN:VEVENT
SUMMARY:CADUS x Off-Grid-Assembly
DTSTART:20251229T140000Z
DTEND:20251229T143000Z
DTSTAMP:20260424T234554Z
UID:3cf666ef-e518-4155-9dd2-20a4adc28338
CATEGORIES:
DESCRIPTION:The Off-Grid-Assembly introducing themselves!
LOCATION:CADUS Skill-Station
URL:https://events.ccc.de/congress/2025/hub/event/detail/cadus-x-off-grid-
 assembly
END:VEVENT
BEGIN:VEVENT
SUMMARY:How to Not Leak (Too Much) – Reclaim military tools for civilian
  use.
DTSTART:20251229T150000Z
DTEND:20251229T154500Z
DTSTAMP:20260424T234554Z
UID:dd7cec43-8015-460f-b994-e4cae09bf280
CATEGORIES:
DESCRIPTION:Most accidents happen at home — or in your hackspace — and
  sometimes the most useful methods come from rougher contexts. Many modern
  emergency techniques were developed for extreme situations\, but we’re 
 bringing them back into everyday life. In this mini-workshop\, we’ll sho
 w you how to stop heavy bleeding with simple tools and why having a combat
  bandage in your backpack can actually be helpful.
LOCATION:CADUS Skill-Station
URL:https://events.ccc.de/congress/2025/hub/event/detail/how-to-not-leak-t
 oo-much-reclaim-military-tools-fo
END:VEVENT
BEGIN:VEVENT
SUMMARY:"Well-Prepared\, Still LARPing"
DTSTART:20251229T180000Z
DTEND:20251229T184500Z
DTSTAMP:20260424T234554Z
UID:14c1fd74-8ea8-4677-a102-26f155ae8c78
CATEGORIES:
DESCRIPTION:Wir laden zum gemeinsamen Rumspinnen und Austausch ein: CADUS 
 meets LARP. Im CADUS Assembly kommen wir zusammen\, schnappen uns dann ein
  ruhiges Eckchen und quatschen darüber\, wie spielerische Ansätze\, Simu
 lation und Community helfen können\, gut vorbereitet durch Krisen zu gehe
 n. Cozy\, offen\, ohne Agenda – einfach reden\, zuhören\, Ideen teilen.
LOCATION:CADUS Skill-Station
URL:https://events.ccc.de/congress/2025/hub/event/detail/well-prepared-sti
 ll-larping
END:VEVENT
BEGIN:VEVENT
SUMMARY:Wetten\, dass.. du das nicht im Schutzanzug schaffst?
DTSTART:20251229T190000Z
DTEND:20251229T200000Z
DTSTAMP:20260424T234554Z
UID:1eabd316-60fe-41f5-b531-f669ae3f5ef6
CATEGORIES:
DESCRIPTION:How heavy is a plate carrier really? How limited is your visio
 n with a CBRN mask? And how complicated can a simple task become once you
 ’re wearing operational gear? In our small “deployment gear challenge\
 ,” you can find out for yourself. We’ve prepared a set of playful task
 s — some quick\, some fiddly\, some delightfully absurd. There are small
  prizes\, plenty of laughs\, and\, along the way\, a sense of how this gea
 r slows you down\, protects you\, or sometimes just gets completely in the
  way.
LOCATION:CADUS Skill-Station
URL:https://events.ccc.de/congress/2025/hub/event/detail/wetten-dass-du-da
 s-nicht-im-schutzanzug-schaffst
END:VEVENT
BEGIN:VEVENT
SUMMARY:Daily Tech Talk: CADUS Academy – Building an Open Learning Platf
 orm
DTSTART:20251230T120000Z
DTEND:20251230T123000Z
DTSTAMP:20260424T234554Z
UID:34d891bf-f3f9-4850-a44a-f330f4e9dda9
CATEGORIES:
DESCRIPTION:Each day\, we’ll give a short insight into the development o
 f the CADUS Academy: our open learning platform for medical\, technical\, 
 and psychosocial training.\nWe’ll share where the project currently stan
 ds\, the ideas shaping it\, and how the community can get involved.\nQuest
 ions\, feedback\, and spontaneous discussions are warmly welcome.
LOCATION:CADUS Skill-Station
URL:https://events.ccc.de/congress/2025/hub/event/detail/daily-tech-talk-c
 adus-academy-building-an-ope_4xuj
END:VEVENT
BEGIN:VEVENT
SUMMARY:Carry you carry me / Leute Tragen
DTSTART:20251230T130000Z
DTEND:20251230T140000Z
DTSTAMP:20260424T234554Z
UID:785f2a1a-c148-4f4b-86bc-5afeaa4d06fd
CATEGORIES:
DESCRIPTION:Piggyback is obvious\, but what if the person you have to carr
 y is unconscious? Or cannot move their arm? What should you pay attention 
 to when carrying a person with two people? Or if the person also needs med
 ical attention at the same time? How can items such as a triangular bandag
 e\, table\, or backpack be used? How can you protect your own back while c
 arrying? With a little technique and the right moves\, you can even carry 
 persons that were heavier than you - we'll try everything out.
LOCATION:CADUS Skill-Station
URL:https://events.ccc.de/congress/2025/hub/event/detail/carry-you-carry-m
 e-leute-tragen_psp2
END:VEVENT
END:VCALENDAR
