BEGIN:VCALENDAR
VERSION:2.0
PRODID:-//39th Chaos Communications Congress//events in Rope-Rescue
CALSCALE:GREGORIAN
METHOD:PUBLISH
X-WR-CALNAME:events in Rope-Rescue
BEGIN:VEVENT
SUMMARY:Kids-Rope-Rescue
DTSTART:20251228T110000Z
DTEND:20251228T113000Z
DTSTAMP:20260421T003622Z
UID:4321391f-cd8c-4d73-b8ff-afabfaa9095b
CATEGORIES:
DESCRIPTION:Kids-Rope-Rescue
LOCATION:Rope-Rescue
URL:https://events.ccc.de/congress/2025/hub/event/detail/kids-rope-rescue
END:VEVENT
END:VCALENDAR
