BEGIN:VCALENDAR
VERSION:2.0
PRODID:-//39th Chaos Communications Congress//The Spectrum's events
CALSCALE:GREGORIAN
METHOD:PUBLISH
X-WR-CALNAME:The Spectrum's events
BEGIN:VEVENT
SUMMARY:Austausch Mental Health und Suizidprävention im Chaos / Meetup Me
 ntal Health and Suicide Prevention in Chaos
DTSTART:20251228T150000Z
DTEND:20251228T165500Z
DTSTAMP:20260425T005427Z
UID:2e0c272e-3988-4868-96cf-23e6c1f04733
CATEGORIES:
DESCRIPTION:Protocol & next steps: https://the-spectrum.space/en/mh/\n\nCN
 : Suicide / Mental Health\n\nDepression is widespread—and within the Cha
 os community\, the number of entities struggling with depression and suici
 dal thoughts is alarmingly high. The painful suicides of the past year\, p
 articularly within the trans community\, have clearly shown us: We urgentl
 y need better structures for mental health and crisis intervention\, as we
 ll as practical advice for the community on how to support one another. In
  this session\, we want to take action. We will gather initial ideas and a
 pproaches: How can we effectively support beings with suicidal thoughts? H
 ow do we protect ourselves from burnout? What good resources do we already
  know and can share with each other? Which ressources are still missing? T
 ogether\, we will exchange ideas in small groups for a safer\, more suppor
 tive environment. We will share these results at the end of the session an
 d make them available to the wider community afterwards.\n\nA meetup initi
 ated by CCCHH\, The Spectrum\, Safe the Dance & F.U.C.K.
LOCATION:SoS Workshop D
URL:https://events.ccc.de/congress/2025/hub/event/detail/austausch-mental-
 health-und-suizidpravention-im-ch
END:VEVENT
END:VCALENDAR
